{ "currentVersion": 11.5, "serviceDescription": "

Formato immagine raster che rappresenta l'intero territorio comunale all'anno 1884. Il contenuto informativo è in scala 1:25.000. La Carta tecnica è costituita da: 1) elementi di tipo geometrico. 2) elementi costitutivi del paesaggio antropico quali: fabbricati, manufatti tecnici, strade, ferrovie, canali, alberi e filari, etc; 3) elementi costitutivi del paesaggio naturale quali: idrografia, vegetazione, etc.; 4) limiti amministrativi; 5) toponomastica.<\/span><\/p>
Data di creazione: 31/12/1884.<\/span><\/p>
Proprietario: Comune di Milano.<\/span><\/p>
Responsabile del dato: Innovazione tecnologica digitale.<\/span><\/p>
Frequenza di aggiornamento: Non pianificato. <\/span><\/p>
Licenza Creative Commons Attribuzione (CC-BY 4.0)<\/span><\/p><\/div><\/div><\/div>", "serviceItemId": "9b23b49044cd4e4ab55a5c1dd0f95dc4", "name": "Cartografie_Raster/Milano_1884_CTC_GB", "description": "

Formato immagine raster che rappresenta l'intero territorio comunale all'anno 1884. Il contenuto informativo è in scala 1:25.000. La Carta tecnica è costituita da: 1) elementi di tipo geometrico. 2) elementi costitutivi del paesaggio antropico quali: fabbricati, manufatti tecnici, strade, ferrovie, canali, alberi e filari, etc; 3) elementi costitutivi del paesaggio naturale quali: idrografia, vegetazione, etc.; 4) limiti amministrativi; 5) toponomastica.<\/span><\/p>
Data di creazione: 31/12/1884.<\/span><\/p>
Proprietario: Comune di Milano.<\/span><\/p>
Responsabile del dato: Innovazione tecnologica digitale.<\/span><\/p>
Frequenza di aggiornamento: Non pianificato. <\/span><\/p>
Licenza Creative Commons Attribuzione (CC-BY 4.0)<\/span><\/p><\/div><\/div><\/div>", "extent": { "xmin": 1510936.2148903366, "ymin": 5031314.179425622, "xmax": 1517695.2684780476, "ymax": 5038073.233013438, "spatialReference": { "wkid": 102091, "latestWkid": 3003 } }, "initialExtent": { "xmin": 1510936.2148903366, "ymin": 5031314.179425622, "xmax": 1517695.2684780476, "ymax": 5038073.233013438, "spatialReference": { "wkid": 102091, "latestWkid": 3003 } }, "fullExtent": { "xmin": 1510936.2148903366, "ymin": 5031314.179425622, "xmax": 1517695.2684780476, "ymax": 5038073.233013438, "spatialReference": { "wkid": 102091, "latestWkid": 3003 } }, "sortableFields": "", "bandCount": 3, "pixelType": "U8", "minValues": [ 0, 0, 0 ], "maxValues": [ 255, 255, 255 ], "meanValues": [ 215.6884926119123, 176.21363479976446, 121.37161611935541 ], "stdvValues": [ 41.38849774519165, 38.242895466042285, 32.27166709100371 ], "serviceProperties": "Center<\/MosaicMethod>First<\/MosaicOperator>true<\/SortAscending><\/LockImageID><\/TileOrderField>0<\/TileOrderBase>0,000000<\/AvgImageSpacingX>0,000000<\/AvgImageSpacingY>0.0<\/ViewPointX>0.0<\/ViewPointY>0.0<\/ViewPointDefShiftX>0.0<\/ViewPointDefShiftY>None<\/CompressionMethod>75<\/CompressionQuality>0,010000<\/CompressionTolerance>Bilinear<\/SamplingMethod><\/ImageServiceProperties><\/ImageServer>", "allowedFields": "", "hasMultidimensions": false, "pixelSizeX": 0.7282678146439986, "pixelSizeY": 0.7282678146552876, "meanPixelSize": 0.7282678146496431, "datasetFormat": "FGDBR", "uncompressedSize": 258410883, "blockWidth": 128, "blockHeight": 128, "compressionType": "LZ77", "bandNames": [ "Band_1", "Band_2", "Band_3" ], "allowCopy": true, "allowAnalysis": true, "itemAccess": false, "inspectionCapabilities": "", "minPixelSize": 0, "maxPixelSize": 0, "copyrightText": "Comune di Milano", "serviceDataType": "esriImageServiceDataTypeRGB", "serviceSourceType": "esriImageServiceSourceTypeDataset", "objectIdField": "", "fields": [], "capabilities": "Mensuration,Image,Metadata", "defaultMosaicMethod": "Center", "allowedMosaicMethods": "", "sortField": "", "sortValue": null, "sortAscending": true, "mosaicOperator": "First", "defaultCompressionQuality": 75, "defaultResamplingMethod": "Bilinear", "maxImageHeight": 4100, "maxImageWidth": 15000, "allowRasterFunction": true, "rasterFunctionInfos": [ { "name": "None", "description": "", "help": "" } ], "rasterTypeInfos": [ { "name": "Raster Dataset", "description": "Supports all ArcGIS Raster Datasets", "help": "" } ], "mensurationCapabilities": "Basic", "hasHistograms": true, "hasColormap": false, "hasRasterAttributeTable": false, "minScale": 0, "maxScale": 0, "exportTilesAllowed": false, "supportsStatistics": false, "supportsAdvancedQueries": false, "editFieldsInfo": null, "ownershipBasedAccessControlForRasters": null, "allowComputeTiePoints": false, "useStandardizedQueries": true, "advancedQueryCapabilities": { "useStandardizedQueries": true, "supportsStatistics": false, "supportsOrderBy": false, "supportsDistinct": false, "supportsPagination": false }, "spatialReference": { "wkid": 102091, "latestWkid": 3003 }, "resampling": false }