Formato immagine raster che rappresenta l'intero territorio comunale all'anno 1910 suddiviso in 10 fogli. Il contenuto informativo è in scala 1:5.000. La Carta tecnica è costituita da: 1) elementi di tipo geometrico. 2) elementi costitutivi del paesaggio antropico quali: fabbricati, manufatti tecnici, strade, ferrovie, canali, alberi e filari, etc; 3) elementi costitutivi del paesaggio naturale quali: idrografia, vegetazione, etc.; 4) limiti amministrativi; 5) toponomastica.<\/span><\/p>Data di creazione: 31/12/1910.<\/span><\/p>Proprietario: Comune di Milano.<\/span><\/p>Responsabile del dato: Innovazione tecnologica digitale.<\/span><\/p>Frequenza di aggiornamento: Non pianificato. <\/span><\/p>Licenza Creative Commons Attribuzione (CC-BY 4.0)<\/span><\/p><\/div><\/div><\/div>",
"serviceItemId": "e996fe472e9440758bc1bcb4d6be8c58",
"name": "Cartografie_Raster/Milano_1910_CTC_GB",
"description": "Formato immagine raster che rappresenta l'intero territorio comunale all'anno 1910 suddiviso in 10 fogli. Il contenuto informativo è in scala 1:5.000. La Carta tecnica è costituita da: 1) elementi di tipo geometrico. 2) elementi costitutivi del paesaggio antropico quali: fabbricati, manufatti tecnici, strade, ferrovie, canali, alberi e filari, etc; 3) elementi costitutivi del paesaggio naturale quali: idrografia, vegetazione, etc.; 4) limiti amministrativi; 5) toponomastica.<\/span><\/p>Data di creazione: 31/12/1910.<\/span><\/p>Proprietario: Comune di Milano.<\/span><\/p>Responsabile del dato: Innovazione tecnologica digitale.<\/span><\/p>Frequenza di aggiornamento: Non pianificato. <\/span><\/p>Licenza Creative Commons Attribuzione (CC-BY 4.0)<\/span><\/p><\/div><\/div><\/div>",
"extent": {
"xmin": 1507676.5742468312,
"ymin": 5030564.079130621,
"xmax": 1520656.097782977,
"ymax": 5040092.301723222,
"spatialReference": {
"wkid": 102091,
"latestWkid": 3003
}
},
"initialExtent": {
"xmin": 1507676.5742468312,
"ymin": 5030564.079130621,
"xmax": 1520656.097782977,
"ymax": 5040092.301723222,
"spatialReference": {
"wkid": 102091,
"latestWkid": 3003
}
},
"fullExtent": {
"xmin": 1507676.5742468312,
"ymin": 5030564.079130621,
"xmax": 1520656.097782977,
"ymax": 5040092.301723222,
"spatialReference": {
"wkid": 102091,
"latestWkid": 3003
}
},
"sortableFields": "MinPS,MaxPS,LowPS,HighPS,CenterX,CenterY,ZOrder,Shape_Length,Shape_Area",
"bandCount": 1,
"pixelType": "U8",
"minValues": [
0
],
"maxValues": [
255
],
"meanValues": [
191.40333296163521
],
"stdvValues": [
100.0106689420741
],
"serviceProperties": "NorthWest<\/MosaicMethod>First<\/MosaicOperator>true<\/SortAscending><\/LockImageID>Name<\/TileOrderField>0<\/TileOrderBase>600,000000<\/AvgImageSpacingX>300,000000<\/AvgImageSpacingY>0.0<\/ViewPointX>0.0<\/ViewPointY>0.0<\/ViewPointDefShiftX>0.0<\/ViewPointDefShiftY>None<\/CompressionMethod>75<\/CompressionQuality>0,010000<\/CompressionTolerance>Bilinear<\/SamplingMethod><\/ImageServiceProperties><\/ImageServer>",
"allowedFields": "Name,MinPS,MaxPS,LowPS,HighPS,Tag,GroupName,ProductName,CenterX,CenterY,ZOrder,Shape_Length,Shape_Area",
"hasMultidimensions": false,
"pixelSizeX": 0.4245142611985507,
"pixelSizeY": 0.42451426119855434,
"meanPixelSize": 0.4245142611985525,
"datasetFormat": "AMD",
"uncompressedSize": 686255875,
"blockWidth": 2048,
"blockHeight": 256,
"compressionType": "None",
"bandNames": [
"Band_1"
],
"allowCopy": true,
"allowAnalysis": true,
"itemAccess": false,
"inspectionCapabilities": "",
"minPixelSize": 0,
"maxPixelSize": 0,
"copyrightText": "Comune di Milano",
"serviceDataType": "esriImageServiceDataTypeGeneric",
"serviceSourceType": "esriImageServiceSourceTypeMosaicDataset",
"objectIdField": "OBJECTID",
"fields": [
{
"name": "OBJECTID",
"type": "esriFieldTypeOID",
"alias": "OBJECTID",
"domain": null
},
{
"name": "Shape",
"type": "esriFieldTypeGeometry",
"alias": "Shape",
"domain": null
},
{
"name": "Name",
"type": "esriFieldTypeString",
"alias": "Name",
"domain": null,
"length": 200
},
{
"name": "MinPS",
"type": "esriFieldTypeDouble",
"alias": "MinPS",
"domain": null
},
{
"name": "MaxPS",
"type": "esriFieldTypeDouble",
"alias": "MaxPS",
"domain": null
},
{
"name": "LowPS",
"type": "esriFieldTypeDouble",
"alias": "LowPS",
"domain": null
},
{
"name": "HighPS",
"type": "esriFieldTypeDouble",
"alias": "HighPS",
"domain": null
},
{
"name": "Category",
"type": "esriFieldTypeInteger",
"alias": "Category",
"domain": {
"type": "codedValue",
"name": "MosaicCatalogItemCategoryDomain",
"description": "Catalog item categories.",
"codedValues": [
{
"name": "Unknown",
"code": 0
},
{
"name": "Primary",
"code": 1
},
{
"name": "Overview",
"code": 2
},
{
"name": "Unprocessed Overview",
"code": 3
},
{
"name": "Partial Overview",
"code": 4
},
{
"name": "Inactive",
"code": 5
},
{
"name": "Uploaded",
"code": 253
},
{
"name": "Incomplete",
"code": 254
},
{
"name": "Custom",
"code": 255
}
],
"mergePolicy": "esriMPTDefaultValue",
"splitPolicy": "esriSPTDefaultValue"
}
},
{
"name": "Tag",
"type": "esriFieldTypeString",
"alias": "Tag",
"domain": null,
"length": 100
},
{
"name": "GroupName",
"type": "esriFieldTypeString",
"alias": "GroupName",
"domain": null,
"length": 100
},
{
"name": "ProductName",
"type": "esriFieldTypeString",
"alias": "ProductName",
"domain": null,
"length": 100
},
{
"name": "CenterX",
"type": "esriFieldTypeDouble",
"alias": "CenterX",
"domain": null
},
{
"name": "CenterY",
"type": "esriFieldTypeDouble",
"alias": "CenterY",
"domain": null
},
{
"name": "ZOrder",
"type": "esriFieldTypeInteger",
"alias": "ZOrder",
"domain": null
},
{
"name": "Shape_Length",
"type": "esriFieldTypeDouble",
"alias": "Shape_Length",
"domain": null
},
{
"name": "Shape_Area",
"type": "esriFieldTypeDouble",
"alias": "Shape_Area",
"domain": null
}
],
"capabilities": "Mensuration,Image,Metadata",
"defaultMosaicMethod": "Northwest",
"allowedMosaicMethods": "NorthWest,Center,LockRaster,ByAttribute,Nadir,Viewpoint,Seamline,None",
"sortField": "",
"sortValue": null,
"sortAscending": true,
"mosaicOperator": "First",
"maxDownloadSizeLimit": 2048,
"defaultCompressionQuality": 75,
"defaultResamplingMethod": "Bilinear",
"maxImageHeight": 4100,
"maxImageWidth": 15000,
"maxRecordCount": 1000,
"maxDownloadImageCount": 20,
"maxMosaicImageCount": 20,
"allowRasterFunction": true,
"rasterFunctionInfos": [
{
"name": "None",
"description": "",
"help": ""
}
],
"rasterTypeInfos": [
{
"name": "Raster Dataset",
"description": "Supports all ArcGIS Raster Datasets",
"help": ""
}
],
"mensurationCapabilities": "None",
"hasHistograms": true,
"hasColormap": false,
"hasRasterAttributeTable": false,
"minScale": 0,
"maxScale": 0,
"exportTilesAllowed": false,
"supportsStatistics": true,
"supportsAdvancedQueries": true,
"editFieldsInfo": null,
"ownershipBasedAccessControlForRasters": null,
"allowComputeTiePoints": false,
"useStandardizedQueries": true,
"advancedQueryCapabilities": {
"useStandardizedQueries": true,
"supportsStatistics": true,
"supportsOrderBy": true,
"supportsDistinct": true,
"supportsPagination": true
},
"spatialReference": {
"wkid": 102091,
"latestWkid": 3003
},
"resampling": false
}