{
 "currentVersion": 11.5,
 "serviceDescription": "Il Database Geotopografico (DBGT) del Comune di Milano, è un sistema di archiviazione e gestione dei dati che contiene informazioni dettagliate sugli elementi geografici, quali edifici, strade, fiumi, confini amministrativi e altri punti di riferimento. I contenuti del DBT, corrispondono anche all'attuale Cartografia Tecnica Comunale (CTC). Il Database Geotopografico (DBGT), può essere utilizzato per scopi topografici, geodetici, cartografici e di pianificazione urbana, consentendo agli utenti di accedere a dati geografici accurati e dettagliati per scopi di mappatura, analisi geospaziale e navigazione. \nI dati sono aggiornati all'ultima rilevazione del 2020.\nProprietario: Comune di Milano.\nResponsabile del dato: Direzione Innovazione tecnologica digitale.\nFrequenza di aggiornamento: Non pianificato. \nLicenza Creative Commons Attribuzione (CC-BY 4.0)",
 "serviceItemId": "c9fa99fcaf4e437096f6e68b9c004f08",
 "name": "Cartografie_Raster/Milano_2020_DBGT_RDN",
 "description": "Il Database Geotopografico (DBGT) del Comune di Milano, è un sistema di archiviazione e gestione dei dati che contiene informazioni dettagliate sugli elementi geografici, quali edifici, strade, fiumi, confini amministrativi e altri punti di riferimento. I contenuti del DBT, corrispondono anche all'attuale Cartografia Tecnica Comunale (CTC). Il Database Geotopografico (DBGT), può essere utilizzato per scopi topografici, geodetici, cartografici e di pianificazione urbana, consentendo agli utenti di accedere a dati geografici accurati e dettagliati per scopi di mappatura, analisi geospaziale e navigazione. \nI dati sono aggiornati all'ultima rilevazione del 2020.\nProprietario: Comune di Milano.\nResponsabile del dato: Direzione Innovazione tecnologica digitale.\nFrequenza di aggiornamento: Non pianificato. \nLicenza Creative Commons Attribuzione (CC-BY 4.0)",
 "extent": {
  "xmin": 502972.9999493389,
  "ymin": 5025780.000173331,
  "xmax": 522172.999836105,
  "ymax": 5042580.000074252,
  "spatialReference": {
   "wkid": 7791,
   "latestWkid": 7791
  }
 },
 "initialExtent": {
  "xmin": 502972.9999493389,
  "ymin": 5025780.000173331,
  "xmax": 522172.999836105,
  "ymax": 5042580.000074252,
  "spatialReference": {
   "wkid": 7791,
   "latestWkid": 7791
  }
 },
 "fullExtent": {
  "xmin": 502972.9999493389,
  "ymin": 5025780.000173331,
  "xmax": 522172.999836105,
  "ymax": 5042580.000074252,
  "spatialReference": {
   "wkid": 7791,
   "latestWkid": 7791
  }
 },
 "sortableFields": "MinPS,MaxPS,LowPS,HighPS,CenterX,CenterY,ZOrder,Shape_Length,Shape_Area",
 "bandCount": 3,
 "pixelType": "U8",
 "minValues": [
  0,
  0,
  0
 ],
 "maxValues": [
  255,
  255,
  255
 ],
 "meanValues": [
  246.69880358249108,
  246.69880358249108,
  246.69880358249108
 ],
 "stdvValues": [
  35.58170221810038,
  35.58170221810038,
  35.58170221810038
 ],
 "serviceProperties": "NorthWest<\/MosaicMethod>First<\/MosaicOperator>true<\/SortAscending><\/LockImageID>Name<\/TileOrderField>0<\/TileOrderBase>600,000000<\/AvgImageSpacingX>300,000000<\/AvgImageSpacingY>0.0<\/ViewPointX>0.0<\/ViewPointY>0.0<\/ViewPointDefShiftX>0.0<\/ViewPointDefShiftY>None<\/CompressionMethod>75<\/CompressionQuality>0,010000<\/CompressionTolerance>Bilinear<\/SamplingMethod><\/ImageServiceProperties><\/ImageServer>",
 "allowedFields": "Name,MinPS,MaxPS,LowPS,HighPS,Tag,GroupName,ProductName,CenterX,CenterY,ZOrder,Shape_Length,Shape_Area",
 "hasMultidimensions": false,
 "pixelSizeX": 0.06614850299999338,
 "pixelSizeY": 0.06614850299999338,
 "meanPixelSize": 0.06614850299999338,
 "datasetFormat": "AMD",
 "uncompressedSize": 221151561264,
 "blockWidth": 2048,
 "blockHeight": 256,
 "compressionType": "None",
 "bandNames": [
  "Band_1",
  "Band_2",
  "Band_3"
 ],
 "allowCopy": true,
 "allowAnalysis": true,
 "itemAccess": false,
 "inspectionCapabilities": "",
 "minPixelSize": 0,
 "maxPixelSize": 0,
 "copyrightText": "Comune di Milano",
 "serviceDataType": "esriImageServiceDataTypeRGB",
 "serviceSourceType": "esriImageServiceSourceTypeMosaicDataset",
 "objectIdField": "OBJECTID",
 "fields": [
  {
   "name": "OBJECTID",
   "type": "esriFieldTypeOID",
   "alias": "OBJECTID",
   "domain": null
  },
  {
   "name": "Shape",
   "type": "esriFieldTypeGeometry",
   "alias": "Shape",
   "domain": null
  },
  {
   "name": "Name",
   "type": "esriFieldTypeString",
   "alias": "Name",
   "domain": null,
   "length": 200
  },
  {
   "name": "MinPS",
   "type": "esriFieldTypeDouble",
   "alias": "MinPS",
   "domain": null
  },
  {
   "name": "MaxPS",
   "type": "esriFieldTypeDouble",
   "alias": "MaxPS",
   "domain": null
  },
  {
   "name": "LowPS",
   "type": "esriFieldTypeDouble",
   "alias": "LowPS",
   "domain": null
  },
  {
   "name": "HighPS",
   "type": "esriFieldTypeDouble",
   "alias": "HighPS",
   "domain": null
  },
  {
   "name": "Category",
   "type": "esriFieldTypeInteger",
   "alias": "Category",
   "domain": {
    "type": "codedValue",
    "name": "MosaicCatalogItemCategoryDomain",
    "description": "Catalog item categories.",
    "codedValues": [
     {
      "name": "Unknown",
      "code": 0
     },
     {
      "name": "Primary",
      "code": 1
     },
     {
      "name": "Overview",
      "code": 2
     },
     {
      "name": "Unprocessed Overview",
      "code": 3
     },
     {
      "name": "Partial Overview",
      "code": 4
     },
     {
      "name": "Inactive",
      "code": 5
     },
     {
      "name": "Uploaded",
      "code": 253
     },
     {
      "name": "Incomplete",
      "code": 254
     },
     {
      "name": "Custom",
      "code": 255
     }
    ],
    "mergePolicy": "esriMPTDefaultValue",
    "splitPolicy": "esriSPTDefaultValue"
   }
  },
  {
   "name": "Tag",
   "type": "esriFieldTypeString",
   "alias": "Tag",
   "domain": null,
   "length": 100
  },
  {
   "name": "GroupName",
   "type": "esriFieldTypeString",
   "alias": "GroupName",
   "domain": null,
   "length": 100
  },
  {
   "name": "ProductName",
   "type": "esriFieldTypeString",
   "alias": "ProductName",
   "domain": null,
   "length": 100
  },
  {
   "name": "CenterX",
   "type": "esriFieldTypeDouble",
   "alias": "CenterX",
   "domain": null
  },
  {
   "name": "CenterY",
   "type": "esriFieldTypeDouble",
   "alias": "CenterY",
   "domain": null
  },
  {
   "name": "ZOrder",
   "type": "esriFieldTypeInteger",
   "alias": "ZOrder",
   "domain": null
  },
  {
   "name": "Shape_Length",
   "type": "esriFieldTypeDouble",
   "alias": "Shape_Length",
   "domain": null
  },
  {
   "name": "Shape_Area",
   "type": "esriFieldTypeDouble",
   "alias": "Shape_Area",
   "domain": null
  }
 ],
 "capabilities": "Catalog,Image,Metadata",
 "defaultMosaicMethod": "Northwest",
 "allowedMosaicMethods": "NorthWest,Center,LockRaster,ByAttribute,Nadir,Viewpoint,Seamline,None",
 "sortField": "",
 "sortValue": null,
 "sortAscending": true,
 "mosaicOperator": "First",
 "maxDownloadSizeLimit": 2048,
 "defaultCompressionQuality": 75,
 "defaultResamplingMethod": "Bilinear",
 "maxImageHeight": 4100,
 "maxImageWidth": 15000,
 "maxRecordCount": 1000,
 "maxDownloadImageCount": 20,
 "maxMosaicImageCount": 100,
 "allowRasterFunction": true,
 "rasterFunctionInfos": [
  {
   "name": "None",
   "description": "",
   "help": ""
  }
 ],
 "rasterTypeInfos": [
  {
   "name": "Raster Dataset",
   "description": "Supports all ArcGIS Raster Datasets",
   "help": ""
  }
 ],
 "mensurationCapabilities": "None",
 "hasHistograms": true,
 "hasColormap": false,
 "hasRasterAttributeTable": false,
 "minScale": 0,
 "maxScale": 0,
 "exportTilesAllowed": false,
 "supportsStatistics": true,
 "supportsAdvancedQueries": true,
 "editFieldsInfo": null,
 "ownershipBasedAccessControlForRasters": null,
 "allowComputeTiePoints": false,
 "useStandardizedQueries": true,
 "advancedQueryCapabilities": {
  "useStandardizedQueries": true,
  "supportsStatistics": true,
  "supportsOrderBy": true,
  "supportsDistinct": true,
  "supportsPagination": true
 },
 "spatialReference": {
  "wkid": 7791,
  "latestWkid": 7791
 },
 "resampling": false
}
