Il Database Geotopografico (DBGT) del Comune di Milano, è un sistema di archiviazione e gestione dei dati che contiene informazioni dettagliate sugli elementi geografici, quali edifici, strade, fiumi, confini amministrativi e altri punti di riferimento. I contenuti del DBT, corrispondono anche all'attuale Cartografia Tecnica Comunale (CTC). Il Database Geotopografico (DBGT), può essere utilizzato per scopi topografici, geodetici, cartografici e di pianificazione urbana, consentendo agli utenti di accedere a dati geografici accurati e dettagliati per scopi di mappatura, analisi geospaziale e navigazione. <\/span><\/p>I dati sono aggiornati all'ultima rilevazione del 2020.<\/span><\/p>Proprietario: Comune di Milano.<\/span><\/p>Responsabile del dato: Direzione Innovazione tecnologica digitale.<\/span><\/p>Frequenza di aggiornamento: Non pianificato. <\/span><\/p>Licenza Creative Commons Attribuzione (CC-BY 4.0)<\/span><\/p><\/div><\/div><\/div>",
"serviceItemId": "ea6b9a54fb34472c8a41646ea3f1aec2",
"name": "Cartografie_Raster/Milano_2020_DBGT_RDN_cache",
"description": "Il Database Geotopografico (DBGT) del Comune di Milano, è un sistema di archiviazione e gestione dei dati che contiene informazioni dettagliate sugli elementi geografici, quali edifici, strade, fiumi, confini amministrativi e altri punti di riferimento. I contenuti del DBT, corrispondono anche all'attuale Cartografia Tecnica Comunale (CTC). Il Database Geotopografico (DBGT), può essere utilizzato per scopi topografici, geodetici, cartografici e di pianificazione urbana, consentendo agli utenti di accedere a dati geografici accurati e dettagliati per scopi di mappatura, analisi geospaziale e navigazione. <\/span><\/p>I dati sono aggiornati all'ultima rilevazione del 2020.<\/span><\/p>Proprietario: Comune di Milano.<\/span><\/p>Responsabile del dato: Direzione Innovazione tecnologica digitale.<\/span><\/p>Frequenza di aggiornamento: Non pianificato. <\/span><\/p>Licenza Creative Commons Attribuzione (CC-BY 4.0)<\/span><\/p><\/div><\/div><\/div>",
"extent": {
"xmin": 502972.9999493389,
"ymin": 5025780.000173331,
"xmax": 522172.999836105,
"ymax": 5042580.000074252,
"spatialReference": {
"wkid": 7791,
"latestWkid": 7791
}
},
"initialExtent": {
"xmin": 502972.9999493389,
"ymin": 5025780.000173331,
"xmax": 522172.999836105,
"ymax": 5042580.000074252,
"spatialReference": {
"wkid": 7791,
"latestWkid": 7791
}
},
"fullExtent": {
"xmin": 502972.9999493389,
"ymin": 5025780.000173331,
"xmax": 522172.999836105,
"ymax": 5042580.000074252,
"spatialReference": {
"wkid": 7791,
"latestWkid": 7791
}
},
"sortableFields": "MinPS,MaxPS,LowPS,HighPS,CenterX,CenterY,ZOrder,Shape_Length,Shape_Area",
"bandCount": 3,
"pixelType": "U8",
"minValues": [
0,
0,
0
],
"maxValues": [
255,
255,
255
],
"meanValues": [
246.69880358249108,
246.69880358249108,
246.69880358249108
],
"stdvValues": [
35.58170221810038,
35.58170221810038,
35.58170221810038
],
"serviceProperties": "NorthWest<\/MosaicMethod>First<\/MosaicOperator>true<\/SortAscending><\/LockImageID>Name<\/TileOrderField>0<\/TileOrderBase>600,000000<\/AvgImageSpacingX>300,000000<\/AvgImageSpacingY>0.0<\/ViewPointX>0.0<\/ViewPointY>0.0<\/ViewPointDefShiftX>0.0<\/ViewPointDefShiftY>None<\/CompressionMethod>75<\/CompressionQuality>0,010000<\/CompressionTolerance>Bilinear<\/SamplingMethod><\/ImageServiceProperties><\/ImageServer>",
"allowedFields": "Name,MinPS,MaxPS,LowPS,HighPS,Tag,GroupName,ProductName,CenterX,CenterY,ZOrder,Shape_Length,Shape_Area",
"hasMultidimensions": false,
"pixelSizeX": 0.06614850299999338,
"pixelSizeY": 0.06614850299999338,
"meanPixelSize": 0.06614850299999338,
"datasetFormat": "AMD",
"uncompressedSize": 221151561264,
"blockWidth": 2048,
"blockHeight": 256,
"compressionType": "None",
"bandNames": [
"Band_1",
"Band_2",
"Band_3"
],
"allowCopy": true,
"allowAnalysis": true,
"itemAccess": false,
"inspectionCapabilities": "",
"minPixelSize": 0.14898127232397113,
"maxPixelSize": 1220.4545828779715,
"copyrightText": "Comune di Milano",
"serviceDataType": "esriImageServiceDataTypeRGB",
"serviceSourceType": "esriImageServiceSourceTypeMosaicDataset",
"objectIdField": "OBJECTID",
"fields": [
{
"name": "OBJECTID",
"type": "esriFieldTypeOID",
"alias": "OBJECTID",
"domain": null
},
{
"name": "Shape",
"type": "esriFieldTypeGeometry",
"alias": "Shape",
"domain": null
},
{
"name": "Name",
"type": "esriFieldTypeString",
"alias": "Name",
"domain": null,
"length": 200
},
{
"name": "MinPS",
"type": "esriFieldTypeDouble",
"alias": "MinPS",
"domain": null
},
{
"name": "MaxPS",
"type": "esriFieldTypeDouble",
"alias": "MaxPS",
"domain": null
},
{
"name": "LowPS",
"type": "esriFieldTypeDouble",
"alias": "LowPS",
"domain": null
},
{
"name": "HighPS",
"type": "esriFieldTypeDouble",
"alias": "HighPS",
"domain": null
},
{
"name": "Category",
"type": "esriFieldTypeInteger",
"alias": "Category",
"domain": {
"type": "codedValue",
"name": "MosaicCatalogItemCategoryDomain",
"description": "Catalog item categories.",
"codedValues": [
{
"name": "Unknown",
"code": 0
},
{
"name": "Primary",
"code": 1
},
{
"name": "Overview",
"code": 2
},
{
"name": "Unprocessed Overview",
"code": 3
},
{
"name": "Partial Overview",
"code": 4
},
{
"name": "Inactive",
"code": 5
},
{
"name": "Uploaded",
"code": 253
},
{
"name": "Incomplete",
"code": 254
},
{
"name": "Custom",
"code": 255
}
],
"mergePolicy": "esriMPTDefaultValue",
"splitPolicy": "esriSPTDefaultValue"
}
},
{
"name": "Tag",
"type": "esriFieldTypeString",
"alias": "Tag",
"domain": null,
"length": 100
},
{
"name": "GroupName",
"type": "esriFieldTypeString",
"alias": "GroupName",
"domain": null,
"length": 100
},
{
"name": "ProductName",
"type": "esriFieldTypeString",
"alias": "ProductName",
"domain": null,
"length": 100
},
{
"name": "CenterX",
"type": "esriFieldTypeDouble",
"alias": "CenterX",
"domain": null
},
{
"name": "CenterY",
"type": "esriFieldTypeDouble",
"alias": "CenterY",
"domain": null
},
{
"name": "ZOrder",
"type": "esriFieldTypeInteger",
"alias": "ZOrder",
"domain": null
},
{
"name": "Shape_Length",
"type": "esriFieldTypeDouble",
"alias": "Shape_Length",
"domain": null
},
{
"name": "Shape_Area",
"type": "esriFieldTypeDouble",
"alias": "Shape_Area",
"domain": null
}
],
"capabilities": "Catalog,Image,Metadata",
"defaultMosaicMethod": "Northwest",
"allowedMosaicMethods": "NorthWest,Center,LockRaster,ByAttribute,Nadir,Viewpoint,Seamline,None",
"sortField": "",
"sortValue": null,
"sortAscending": true,
"mosaicOperator": "First",
"maxDownloadSizeLimit": 2048,
"defaultCompressionQuality": 75,
"defaultResamplingMethod": "Bilinear",
"maxImageHeight": 4100,
"maxImageWidth": 15000,
"maxRecordCount": 1000,
"maxDownloadImageCount": 20,
"maxMosaicImageCount": 100,
"singleFusedMapCache": true,
"tileInfo": {
"rows": 256,
"cols": 256,
"dpi": 96,
"format": "JPEG",
"compressionQuality": 75,
"origin": {
"x": -9497963.942936342,
"y": 9997963.942936342
},
"spatialReference": {
"wkid": 7791,
"latestWkid": 7791
},
"lods": [
{
"level": 0,
"resolution": 78109.09330419017,
"scale": 2.952154707559943E8
},
{
"level": 1,
"resolution": 39054.54665209509,
"scale": 1.4760773537799716E8
},
{
"level": 2,
"resolution": 19527.273326047543,
"scale": 7.380386768899858E7
},
{
"level": 3,
"resolution": 9763.636663023772,
"scale": 3.690193384449929E7
},
{
"level": 4,
"resolution": 4881.818331511886,
"scale": 1.8450966922249645E7
},
{
"level": 5,
"resolution": 2440.909165755943,
"scale": 9225483.461124822
},
{
"level": 6,
"resolution": 1220.4545828779715,
"scale": 4612741.730562411
},
{
"level": 7,
"resolution": 610.2272914389857,
"scale": 2306370.8652812056
},
{
"level": 8,
"resolution": 305.11364571949287,
"scale": 1153185.4326406028
},
{
"level": 9,
"resolution": 152.55682285974643,
"scale": 576592.7163203014
},
{
"level": 10,
"resolution": 76.27841142987322,
"scale": 288296.3581601507
},
{
"level": 11,
"resolution": 38.13920571493661,
"scale": 144148.17908007535
},
{
"level": 12,
"resolution": 19.069602857468304,
"scale": 72074.08954003768
},
{
"level": 13,
"resolution": 9.534801428734152,
"scale": 36037.04477001884
},
{
"level": 14,
"resolution": 4.767400714367076,
"scale": 18018.52238500942
},
{
"level": 15,
"resolution": 2.383700357183538,
"scale": 9009.26119250471
},
{
"level": 16,
"resolution": 1.191850178591769,
"scale": 4504.630596252355
},
{
"level": 17,
"resolution": 0.5959250892958845,
"scale": 2252.3152981261774
},
{
"level": 18,
"resolution": 0.29796254464794225,
"scale": 1126.1576490630887
},
{
"level": 19,
"resolution": 0.14898127232397113,
"scale": 563.0788245315443
}
]
},
"storageInfo": {
"storageFormat": "esriMapCacheStorageModeCompactV2",
"packetSize": 128
},
"cacheType": "Map",
"allowRasterFunction": true,
"rasterFunctionInfos": [
{
"name": "None",
"description": "",
"help": ""
}
],
"rasterTypeInfos": [
{
"name": "Raster Dataset",
"description": "Supports all ArcGIS Raster Datasets",
"help": ""
}
],
"mensurationCapabilities": "None",
"hasHistograms": true,
"hasColormap": false,
"hasRasterAttributeTable": false,
"minScale": 4612741.730562411,
"maxScale": 563.0788245315443,
"minLOD": 6,
"maxLOD": 19,
"exportTilesAllowed": false,
"supportsStatistics": true,
"supportsAdvancedQueries": true,
"editFieldsInfo": null,
"ownershipBasedAccessControlForRasters": null,
"allowComputeTiePoints": false,
"useStandardizedQueries": true,
"advancedQueryCapabilities": {
"useStandardizedQueries": true,
"supportsStatistics": true,
"supportsOrderBy": true,
"supportsDistinct": true,
"supportsPagination": true
},
"spatialReference": {
"wkid": 7791,
"latestWkid": 7791
},
"resampling": false
}