{
 "currentVersion": 11.5,
 "serviceDescription": "D_Innovazione_tecnologica_digitale/Densita_di_popolazione",
 "serviceItemId": "576c40314cbe4fe3b90560f041b138d7",
 "name": "D_Innovazione_tecnologica_digitale/Densita_di_popolazione",
 "description": "",
 "extent": {
  "xmin": 503720.6854999997,
  "ymin": 5027231.289999999,
  "xmax": 521420.6854999997,
  "ymax": 5042256.289999999,
  "spatialReference": {
   "wkid": 7791,
   "latestWkid": 7791
  }
 },
 "initialExtent": {
  "xmin": 503720.6854999997,
  "ymin": 5027231.289999999,
  "xmax": 521420.6854999997,
  "ymax": 5042256.289999999,
  "spatialReference": {
   "wkid": 7791,
   "latestWkid": 7791
  }
 },
 "fullExtent": {
  "xmin": 503720.6854999997,
  "ymin": 5027231.289999999,
  "xmax": 521420.6854999997,
  "ymax": 5042256.289999999,
  "spatialReference": {
   "wkid": 7791,
   "latestWkid": 7791
  }
 },
 "sortableFields": "",
 "bandCount": 1,
 "pixelType": "F32",
 "minValues": [
  1.2548681940498132E-15
 ],
 "maxValues": [
  1
 ],
 "meanValues": [
  0.23478800211587478
 ],
 "stdvValues": [
  0.2264688080289275
 ],
 "serviceProperties": "Center<\/MosaicMethod>First<\/MosaicOperator>true<\/SortAscending><\/LockImageID><\/TileOrderField>0<\/TileOrderBase>0,000000<\/AvgImageSpacingX>0,000000<\/AvgImageSpacingY>0.0<\/ViewPointX>0.0<\/ViewPointY>0.0<\/ViewPointDefShiftX>0.0<\/ViewPointDefShiftY>None<\/CompressionMethod>75<\/CompressionQuality>0,010000<\/CompressionTolerance>Bilinear<\/SamplingMethod><\/ImageServiceProperties><\/ImageServer>",
 "allowedFields": "",
 "hasMultidimensions": false,
 "pixelSizeX": 25,
 "pixelSizeY": 25,
 "meanPixelSize": 25,
 "datasetFormat": "FGDBR",
 "uncompressedSize": 1702032,
 "blockWidth": 128,
 "blockHeight": 128,
 "compressionType": "NONE",
 "bandNames": [
  "Band_1"
 ],
 "allowCopy": true,
 "allowAnalysis": true,
 "itemAccess": false,
 "inspectionCapabilities": "",
 "minPixelSize": 0,
 "maxPixelSize": 0,
 "copyrightText": "",
 "serviceDataType": "esriImageServiceDataTypeGeneric",
 "serviceSourceType": "esriImageServiceSourceTypeDataset",
 "objectIdField": "",
 "fields": [],
 "capabilities": "Image,Metadata,Mensuration",
 "defaultMosaicMethod": "Center",
 "allowedMosaicMethods": "",
 "sortField": "",
 "sortValue": null,
 "sortAscending": true,
 "mosaicOperator": "First",
 "defaultCompressionQuality": 75,
 "defaultResamplingMethod": "Bilinear",
 "maxImageHeight": 4100,
 "maxImageWidth": 15000,
 "allowRasterFunction": true,
 "rasterFunctionInfos": [
  {
   "name": "Densita_di_popolazione_totale",
   "description": "Densita_di_popolazione_totale",
   "help": ""
  },
  {
   "name": "None",
   "description": "",
   "help": ""
  }
 ],
 "rasterTypeInfos": [
  {
   "name": "Raster Dataset",
   "description": "Supports all ArcGIS Raster Datasets",
   "help": ""
  }
 ],
 "mensurationCapabilities": "Basic",
 "hasHistograms": true,
 "hasColormap": false,
 "hasRasterAttributeTable": false,
 "minScale": 0,
 "maxScale": 0,
 "exportTilesAllowed": false,
 "supportsStatistics": false,
 "supportsAdvancedQueries": false,
 "editFieldsInfo": null,
 "ownershipBasedAccessControlForRasters": null,
 "allowComputeTiePoints": false,
 "useStandardizedQueries": true,
 "advancedQueryCapabilities": {
  "useStandardizedQueries": true,
  "supportsStatistics": false,
  "supportsOrderBy": false,
  "supportsDistinct": false,
  "supportsPagination": false
 },
 "spatialReference": {
  "wkid": 7791,
  "latestWkid": 7791
 }
}
