{
 "currentVersion": 11.5,
 "serviceDescription": "\u201cContratto n. P.G. 0245929/2022 del 11.05.2022 relativo alle attività per la fornitura di rilievo cittadino con tecnologia multi-sensore terrestre ed aereo\u201d - Gara N. 56/2020 CIG 8593404D4E \u2013 CUP B49G17001110004, realizzati da C.G.R. S.p.A. Compagnia Generale Ripreseaeree, MER MEC Engineering S.r.l., ESRI Italia S.p.A., CycloMedia Technology B.V.\nCopyright. Solo consultazione autorizzata. Altri usi vietati.",
 "serviceItemId": "107950ee55794b88afe94bcabccce9c3",
 "name": "Imagery_2024/Milano_ORTO_2024",
 "description": "\u201cContratto n. P.G. 0245929/2022 del 11.05.2022 relativo alle attività per la fornitura di rilievo cittadino con tecnologia multi-sensore terrestre ed aereo\u201d - Gara N. 56/2020 CIG 8593404D4E \u2013 CUP B49G17001110004, realizzati da C.G.R. S.p.A. Compagnia Generale Ripreseaeree, MER MEC Engineering S.r.l., ESRI Italia S.p.A., CycloMedia Technology B.V.\nCopyright. Solo consultazione autorizzata. Altri usi vietati.",
 "extent": {
  "xmin": 502995,
  "ymin": 5025495,
  "xmax": 522005,
  "ymax": 5043005,
  "spatialReference": {
   "wkid": 7791,
   "latestWkid": 7791
  }
 },
 "initialExtent": {
  "xmin": 502995,
  "ymin": 5025495,
  "xmax": 522005,
  "ymax": 5043005,
  "spatialReference": {
   "wkid": 7791,
   "latestWkid": 7791
  }
 },
 "fullExtent": {
  "xmin": 502995,
  "ymin": 5025495,
  "xmax": 522005,
  "ymax": 5043005,
  "spatialReference": {
   "wkid": 7791,
   "latestWkid": 7791
  }
 },
 "sortableFields": "minps,maxps,lowps,highps,centerx,centery,zorder,st_area(shape),st_length(shape),PerspectiveX,PerspectiveY,PerspectiveZ,Omega,Phi,Kappa,GPS_Timest,Flight_Dat",
 "bandCount": 3,
 "pixelType": "U8",
 "minValues": [
  0,
  0,
  0
 ],
 "maxValues": [
  255,
  255,
  255
 ],
 "meanValues": [
  140.69907857150335,
  142.63044866865974,
  124.07640384074341
 ],
 "stdvValues": [
  50.04648655931135,
  45.79006341840811,
  44.31204331969959
 ],
 "serviceProperties": "NorthWest<\/MosaicMethod>First<\/MosaicOperator>true<\/SortAscending><\/LockImageID>name<\/TileOrderField>0<\/TileOrderBase>600,000000<\/AvgImageSpacingX>300,000000<\/AvgImageSpacingY>0.0<\/ViewPointX>0.0<\/ViewPointY>0.0<\/ViewPointDefShiftX>0.0<\/ViewPointDefShiftY>None<\/CompressionMethod>75<\/CompressionQuality>0,010000<\/CompressionTolerance>Bilinear<\/SamplingMethod><\/ImageServiceProperties><\/ImageServer>",
 "allowedFields": "name,minps,maxps,lowps,highps,tag,groupname,productname,centerx,centery,zorder,st_area(shape),st_length(shape),Vista,PerspectiveX,PerspectiveY,PerspectiveZ,Omega,Phi,Kappa,GPS_Timest,Flight_Dat,idcamera,CameraID",
 "hasMultidimensions": false,
 "pixelSizeX": 0.05,
 "pixelSizeY": 0.05,
 "meanPixelSize": 0.05,
 "datasetFormat": "AMD",
 "uncompressedSize": 399438120000,
 "blockWidth": 2048,
 "blockHeight": 256,
 "compressionType": "None",
 "bandNames": [
  "Band_1",
  "Band_2",
  "Band_3"
 ],
 "allowCopy": true,
 "allowAnalysis": true,
 "itemAccess": false,
 "inspectionCapabilities": "",
 "minPixelSize": 0,
 "maxPixelSize": 0,
 "copyrightText": "Comune di Milano",
 "serviceDataType": "esriImageServiceDataTypeRGB",
 "serviceSourceType": "esriImageServiceSourceTypeMosaicDataset",
 "objectIdField": "objectid",
 "fields": [
  {
   "name": "objectid",
   "type": "esriFieldTypeOID",
   "alias": "objectid",
   "domain": null
  },
  {
   "name": "name",
   "type": "esriFieldTypeString",
   "alias": "name",
   "domain": null,
   "length": 200
  },
  {
   "name": "minps",
   "type": "esriFieldTypeDouble",
   "alias": "minps",
   "domain": null
  },
  {
   "name": "maxps",
   "type": "esriFieldTypeDouble",
   "alias": "maxps",
   "domain": null
  },
  {
   "name": "lowps",
   "type": "esriFieldTypeDouble",
   "alias": "lowps",
   "domain": null
  },
  {
   "name": "highps",
   "type": "esriFieldTypeDouble",
   "alias": "highps",
   "domain": null
  },
  {
   "name": "category",
   "type": "esriFieldTypeInteger",
   "alias": "category",
   "domain": {
    "type": "codedValue",
    "name": "MosaicCatalogItemCategoryDomain",
    "description": "Catalog item categories.",
    "codedValues": [
     {
      "name": "Unknown",
      "code": 0
     },
     {
      "name": "Primary",
      "code": 1
     },
     {
      "name": "Overview",
      "code": 2
     },
     {
      "name": "Unprocessed Overview",
      "code": 3
     },
     {
      "name": "Partial Overview",
      "code": 4
     },
     {
      "name": "Inactive",
      "code": 5
     },
     {
      "name": "Uploaded",
      "code": 253
     },
     {
      "name": "Incomplete",
      "code": 254
     },
     {
      "name": "Custom",
      "code": 255
     }
    ],
    "mergePolicy": "esriMPTDefaultValue",
    "splitPolicy": "esriSPTDefaultValue"
   }
  },
  {
   "name": "tag",
   "type": "esriFieldTypeString",
   "alias": "tag",
   "domain": null,
   "length": 100
  },
  {
   "name": "groupname",
   "type": "esriFieldTypeString",
   "alias": "groupname",
   "domain": null,
   "length": 100
  },
  {
   "name": "productname",
   "type": "esriFieldTypeString",
   "alias": "productname",
   "domain": null,
   "length": 100
  },
  {
   "name": "centerx",
   "type": "esriFieldTypeDouble",
   "alias": "centerx",
   "domain": null
  },
  {
   "name": "centery",
   "type": "esriFieldTypeDouble",
   "alias": "centery",
   "domain": null
  },
  {
   "name": "zorder",
   "type": "esriFieldTypeInteger",
   "alias": "zorder",
   "domain": null
  },
  {
   "name": "shape",
   "type": "esriFieldTypeGeometry",
   "alias": "shape",
   "domain": null
  },
  {
   "name": "vista",
   "type": "esriFieldTypeString",
   "alias": "Vista",
   "domain": null,
   "length": 50
  },
  {
   "name": "perspectivex",
   "type": "esriFieldTypeDouble",
   "alias": "X",
   "domain": null
  },
  {
   "name": "perspectivey",
   "type": "esriFieldTypeDouble",
   "alias": "Y",
   "domain": null
  },
  {
   "name": "perspectivez",
   "type": "esriFieldTypeDouble",
   "alias": "Z",
   "domain": null
  },
  {
   "name": "omega",
   "type": "esriFieldTypeDouble",
   "alias": "Omega",
   "domain": null
  },
  {
   "name": "phi",
   "type": "esriFieldTypeDouble",
   "alias": "Phi",
   "domain": null
  },
  {
   "name": "kappa",
   "type": "esriFieldTypeDouble",
   "alias": "Kappa",
   "domain": null
  },
  {
   "name": "gps_timest",
   "type": "esriFieldTypeDouble",
   "alias": "GPS_Timest",
   "domain": null
  },
  {
   "name": "flight_dat",
   "type": "esriFieldTypeInteger",
   "alias": "Flight_Dat",
   "domain": null
  },
  {
   "name": "idcamera",
   "type": "esriFieldTypeString",
   "alias": "idcamera",
   "domain": null,
   "length": 254
  },
  {
   "name": "cameraid",
   "type": "esriFieldTypeString",
   "alias": "CameraID",
   "domain": null,
   "length": 254
  },
  {
   "name": "st_area(shape)",
   "type": "esriFieldTypeDouble",
   "alias": "st_area(shape)",
   "domain": null
  },
  {
   "name": "st_length(shape)",
   "type": "esriFieldTypeDouble",
   "alias": "st_length(shape)",
   "domain": null
  }
 ],
 "capabilities": "Catalog,Mensuration,Image,Metadata",
 "defaultMosaicMethod": "Northwest",
 "allowedMosaicMethods": "NorthWest,Center,LockRaster,ByAttribute,Nadir,Viewpoint,Seamline,None",
 "sortField": "",
 "sortValue": null,
 "sortAscending": true,
 "mosaicOperator": "First",
 "maxDownloadSizeLimit": 2048,
 "defaultCompressionQuality": 75,
 "defaultResamplingMethod": "Bilinear",
 "maxImageHeight": 4100,
 "maxImageWidth": 15000,
 "maxRecordCount": 1000,
 "maxDownloadImageCount": 20,
 "maxMosaicImageCount": 20,
 "allowRasterFunction": true,
 "rasterFunctionInfos": [
  {
   "name": "None",
   "description": "",
   "help": ""
  }
 ],
 "rasterTypeInfos": [
  {
   "name": "Raster Dataset",
   "description": "Supports all ArcGIS Raster Datasets",
   "help": ""
  }
 ],
 "mensurationCapabilities": "None",
 "hasHistograms": true,
 "hasColormap": false,
 "hasRasterAttributeTable": false,
 "minScale": 0,
 "maxScale": 0,
 "exportTilesAllowed": false,
 "supportsStatistics": true,
 "supportsAdvancedQueries": true,
 "editFieldsInfo": null,
 "ownershipBasedAccessControlForRasters": null,
 "allowComputeTiePoints": false,
 "useStandardizedQueries": true,
 "advancedQueryCapabilities": {
  "useStandardizedQueries": true,
  "supportsStatistics": true,
  "supportsOrderBy": true,
  "supportsDistinct": true,
  "supportsPagination": true
 },
 "spatialReference": {
  "wkid": 7791,
  "latestWkid": 7791
 },
 "resampling": false
}
