View In:
ArcGIS JavaScript
ArcGIS Online Map Viewer
ArcGIS Earth
Service Description: Formato immagine raster che rappresenta la carta della Toponomastica del 1914. Assente il foglio centrale (Duomo).
Data di creazione: 31/12/1914.
Proprietario: Comune di Milano.
Responsabile del dato: Innovazione tecnologica digitale.
Frequenza di aggiornamento: Non pianificato.
Licenza Creative Commons Attribuzione (CC-BY 4.0)
Name: Cartografie_Raster/Milano_1914_Toponomastica_GB
Description: Formato immagine raster che rappresenta la carta della Toponomastica del 1914. Assente il foglio centrale (Duomo).
Data di creazione: 31/12/1914.
Proprietario: Comune di Milano.
Responsabile del dato: Innovazione tecnologica digitale.
Frequenza di aggiornamento: Non pianificato.
Licenza Creative Commons Attribuzione (CC-BY 4.0)
Single Fused Map Cache: false
Extent:
XMin: 1511511.1786518127
YMin: 5031643.894875885
XMax: 1517537.2080918122
YMax: 5038882.646235884
Spatial Reference: 102091
(3003)
LatestVCSWkid(0)
Initial Extent:
XMin: 1511511.1786518127
YMin: 5031643.894875885
XMax: 1517537.2080918122
YMax: 5038882.646235884
Spatial Reference: 102091
(3003)
LatestVCSWkid(0)
Full Extent:
XMin: 1511511.1786518127
YMin: 5031643.894875885
XMax: 1517537.2080918122
YMax: 5038882.646235884
Spatial Reference: 102091
(3003)
LatestVCSWkid(0)
Pixel Size X: 0.3385599999999713
Pixel Size Y: 0.3385599999999616
Band Count: 3
Pixel Type: U8
RasterFunction Infos: {"rasterFunctionInfos": [{
"name": "None",
"description": "",
"help": ""
}]}
Mensuration Capabilities: None
Inspection Capabilities:
Has Histograms: true
Has Colormap: false
Has Multi Dimensions : false
Rendering Rule:
Min Scale: 0
Max Scale: 0
Resampling: false
Copyright Text: Comune di Milano
Service Data Type: esriImageServiceDataTypeRGB
Min Values: 0, 0, 0
Max Values: 255, 255, 255
Mean Values: 193.79284565428856, 157.3100845919938, 105.76397362276381
Standard Deviation Values: 44.131624529190766, 42.71354736256208, 36.16011102628366
Object ID Field: OBJECTID
Fields:
-
OBJECTID
(
type: esriFieldTypeOID, alias: OBJECTID
)
-
Shape
(
type: esriFieldTypeGeometry, alias: Shape
)
-
Name
(
type: esriFieldTypeString, alias: Name, length: 200
)
-
MinPS
(
type: esriFieldTypeDouble, alias: MinPS
)
-
MaxPS
(
type: esriFieldTypeDouble, alias: MaxPS
)
-
LowPS
(
type: esriFieldTypeDouble, alias: LowPS
)
-
HighPS
(
type: esriFieldTypeDouble, alias: HighPS
)
-
Category
(
type: esriFieldTypeInteger, alias: Category
, Coded Values:
[0: Unknown]
, [1: Primary]
, [2: Overview]
, ...6 more...
)
-
Tag
(
type: esriFieldTypeString, alias: Tag, length: 100
)
-
GroupName
(
type: esriFieldTypeString, alias: GroupName, length: 100
)
-
ProductName
(
type: esriFieldTypeString, alias: ProductName, length: 100
)
-
CenterX
(
type: esriFieldTypeDouble, alias: CenterX
)
-
CenterY
(
type: esriFieldTypeDouble, alias: CenterY
)
-
ZOrder
(
type: esriFieldTypeInteger, alias: ZOrder
)
-
Shape_Length
(
type: esriFieldTypeDouble, alias: Shape_Length
)
-
Shape_Area
(
type: esriFieldTypeDouble, alias: Shape_Area
)
Default Mosaic Method: Northwest
Allowed Mosaic Methods: NorthWest,Center,LockRaster,ByAttribute,Nadir,Viewpoint,Seamline,None
SortField:
SortValue: null
Mosaic Operator: First
Default Compression Quality: 75
Default Resampling Method: Bilinear
Max Record Count: 1000
Max Image Height: 4100
Max Image Width: 15000
Max Download Image Count: 20
Max Mosaic Image Count: 20
Allow Raster Function: true
Allow Copy: true
Allow Analysis: true
Allow Compute TiePoints: false
Supports Statistics: true
Supports Advanced Queries: true
Use StandardizedQueries: true
Raster Type Infos:
Name: Raster Dataset
Description: Supports all ArcGIS Raster Datasets
Help:
Has Raster Attribute Table: false
Edit Fields Info: null
Ownership Based AccessControl For Rasters: null
Child Resources:
Info
Histograms
Statistics
Key Properties
Legend
Raster Function Infos
Supported Operations:
Export Image
Query
Identify
Compute Histograms
Compute Statistics Histograms
Get Samples
Compute Class Statistics
Query GPS Info
Find Images
Image to Map
Map to Image
Measure from Image
Image to Map Multiray
Query Boundary
Compute Pixel Location
Compute Angles
Validate
Project