View In:
ArcGIS JavaScript
ArcGIS Online Map Viewer
ArcGIS Earth
Service Description: Formato immagine raster che rappresenta l'intero territorio comunale suddiviso in 116 fogli. Il contenuto informativo è in scala 1:2000. La Carta tecnica è costituita da: 1) elementi ed entità di tipo geometrico: reticolato cartografico, punti quotati. L'altimetria, espressa in metri, relativa sia al suolo sia agli edifici, è riferita al livello medio del mare. L'equidistanza tra le curve di livello è di 2 metri; per le curve tratteggiate è di 1 metro. Tolleranza delle quote numeriche = 0.60 m, delle curve di livello = 0.90 m, MDL = 0.9996. Le quote riferite alla sommità degli edifici sono diminuite di 100 m; 2) elementi costitutivi del paesaggio antropico quali: fabbricati non campiti con indicazione di destinazione per gli edifici di tipo pubblico, manufatti tecnici, strade, ferrovie, canali, alberi e filari, etc; 3) elementi costitutivi del paesaggio naturale quali: idrografia, vegetazione, etc.; 4) limiti amministrativi; 5) toponomastica.
Data di creazione: 31/12/1990.
Proprietario: Comune di Milano.
Responsabile del dato: Innovazione tecnologica digitale.
Frequenza di aggiornamento: Non pianificato.
Licenza Creative Commons Attribuzione (CC-BY 4.0)
Name: Cartografie_Raster/Milano_1990_campita_con_quote_CTC_RDN
Description: Formato immagine raster che rappresenta l'intero territorio comunale suddiviso in 116 fogli. Il contenuto informativo è in scala 1:2000. La Carta tecnica è costituita da: 1) elementi ed entità di tipo geometrico: reticolato cartografico, punti quotati. L'altimetria, espressa in metri, relativa sia al suolo sia agli edifici, è riferita al livello medio del mare. L'equidistanza tra le curve di livello è di 2 metri; per le curve tratteggiate è di 1 metro. Tolleranza delle quote numeriche = 0.60 m, delle curve di livello = 0.90 m, MDL = 0.9996. Le quote riferite alla sommità degli edifici sono diminuite di 100 m; 2) elementi costitutivi del paesaggio antropico quali: fabbricati non campiti con indicazione di destinazione per gli edifici di tipo pubblico, manufatti tecnici, strade, ferrovie, canali, alberi e filari, etc; 3) elementi costitutivi del paesaggio naturale quali: idrografia, vegetazione, etc.; 4) limiti amministrativi; 5) toponomastica.
Data di creazione: 31/12/1990.
Proprietario: Comune di Milano.
Responsabile del dato: Innovazione tecnologica digitale.
Frequenza di aggiornamento: Non pianificato.
Licenza Creative Commons Attribuzione (CC-BY 4.0)
Single Fused Map Cache: false
Extent:
XMin: 502972.99774248747
YMin: 5025780.263159026
XMax: 522173.1644090396
YMax: 5043380.263158921
Spatial Reference: 7791
(7791)
LatestVCSWkid(0)
Initial Extent:
XMin: 502972.99774248747
YMin: 5025780.263159026
XMax: 522173.1644090396
YMax: 5043380.263158921
Spatial Reference: 7791
(7791)
LatestVCSWkid(0)
Full Extent:
XMin: 502972.99774248747
YMin: 5025780.263159026
XMax: 522173.1644090396
YMax: 5043380.263158921
Spatial Reference: 7791
(7791)
LatestVCSWkid(0)
Pixel Size X: 0.16666666666567245
Pixel Size Y: 0.1666666666656701
Band Count: 3
Pixel Type: U8
RasterFunction Infos: {"rasterFunctionInfos": [{
"name": "None",
"description": "",
"help": ""
}]}
Mensuration Capabilities: None
Inspection Capabilities:
Has Histograms: true
Has Colormap: false
Has Multi Dimensions : false
Rendering Rule:
Min Scale: 0
Max Scale: 0
Resampling: false
Copyright Text: Comune di Milano
Service Data Type: esriImageServiceDataTypeRGB
Min Values: 52, 52, 52
Max Values: 255, 255, 255
Mean Values: 232.40284783396976, 232.40284783396976, 232.40284783396976
Standard Deviation Values: 42.062111720711236, 42.062111720711236, 42.062111720711236
Object ID Field: OBJECTID
Fields:
-
OBJECTID
(
type: esriFieldTypeOID, alias: OBJECTID
)
-
Shape
(
type: esriFieldTypeGeometry, alias: Shape
)
-
Name
(
type: esriFieldTypeString, alias: Name, length: 200
)
-
MinPS
(
type: esriFieldTypeDouble, alias: MinPS
)
-
MaxPS
(
type: esriFieldTypeDouble, alias: MaxPS
)
-
LowPS
(
type: esriFieldTypeDouble, alias: LowPS
)
-
HighPS
(
type: esriFieldTypeDouble, alias: HighPS
)
-
Category
(
type: esriFieldTypeInteger, alias: Category
, Coded Values:
[0: Unknown]
, [1: Primary]
, [2: Overview]
, ...6 more...
)
-
Tag
(
type: esriFieldTypeString, alias: Tag, length: 100
)
-
GroupName
(
type: esriFieldTypeString, alias: GroupName, length: 100
)
-
ProductName
(
type: esriFieldTypeString, alias: ProductName, length: 100
)
-
CenterX
(
type: esriFieldTypeDouble, alias: CenterX
)
-
CenterY
(
type: esriFieldTypeDouble, alias: CenterY
)
-
ZOrder
(
type: esriFieldTypeInteger, alias: ZOrder
)
-
Shape_Length
(
type: esriFieldTypeDouble, alias: Shape_Length
)
-
Shape_Area
(
type: esriFieldTypeDouble, alias: Shape_Area
)
Default Mosaic Method: Northwest
Allowed Mosaic Methods: NorthWest,Center,LockRaster,ByAttribute,Nadir,Viewpoint,Seamline,None
SortField:
SortValue: null
Mosaic Operator: First
Default Compression Quality: 75
Default Resampling Method: Bilinear
Max Record Count: 1000
Max Image Height: 4100
Max Image Width: 15000
Max Download Image Count: 20
Max Mosaic Image Count: 100
Allow Raster Function: true
Allow Copy: true
Allow Analysis: true
Allow Compute TiePoints: false
Supports Statistics: true
Supports Advanced Queries: true
Use StandardizedQueries: true
Raster Type Infos:
Name: Raster Dataset
Description: Supports all ArcGIS Raster Datasets
Help:
Has Raster Attribute Table: false
Edit Fields Info: null
Ownership Based AccessControl For Rasters: null
Child Resources:
Info
Histograms
Statistics
Key Properties
Legend
Raster Function Infos
Supported Operations:
Export Image
Identify
Measure
Compute Histograms
Compute Statistics Histograms
Get Samples
Compute Class Statistics
Query Boundary
Compute Pixel Location
Compute Angles
Validate
Project