View In:
ArcGIS JavaScript
ArcGIS Online Map Viewer
ArcGIS Earth
Service Description: "Contratto n. P.G. 0245929/2022 del 11.05.2022 relativo alle attività per la fornitura di rilievo cittadino con tecnologia multi-sensore terrestre ed aereo” - Gara N. 56/2020 CIG 8593404D4E – CUP B49G17001110004, realizzati da C.G.R. S.p.A. Compagnia Generale Ripreseaeree, MER MEC Engineering S.r.l., ESRI Italia S.p.A., CycloMedia Technology B.V. Copyright. Solo consultazione autorizzata. Altri usi vietati. (Data del volo: giugno 2024)
Data di creazione: 03/12/2024.
Proprietario: Comune di Milano.
Responsabile del dato: Sistemi Informativi Territoriali.
Frequenza di aggiornamento: Copyright. Solo consultazione autorizzata. Altri usi vietati.
Name: Imagery_2024/Milano_ORTO_CIR_2024
Description: "Contratto n. P.G. 0245929/2022 del 11.05.2022 relativo alle attività per la fornitura di rilievo cittadino con tecnologia multi-sensore terrestre ed aereo” - Gara N. 56/2020 CIG 8593404D4E – CUP B49G17001110004, realizzati da C.G.R. S.p.A. Compagnia Generale Ripreseaeree, MER MEC Engineering S.r.l., ESRI Italia S.p.A., CycloMedia Technology B.V. Copyright. Solo consultazione autorizzata. Altri usi vietati. (Data del volo: giugno 2024)
Data di creazione: 03/12/2024.
Proprietario: Comune di Milano.
Responsabile del dato: Sistemi Informativi Territoriali.
Frequenza di aggiornamento: Copyright. Solo consultazione autorizzata. Altri usi vietati.
Single Fused Map Cache: false
Extent:
XMin: 502995.0
YMin: 5025495.0
XMax: 522005.0
YMax: 5043005.0
Spatial Reference: 7791
(7791)
LatestVCSWkid(0)
Initial Extent:
XMin: 502995.0
YMin: 5025495.0
XMax: 522005.0
YMax: 5043005.0
Spatial Reference: 7791
(7791)
LatestVCSWkid(0)
Full Extent:
XMin: 502995.0
YMin: 5025495.0
XMax: 522005.0
YMax: 5043005.0
Spatial Reference: 7791
(7791)
LatestVCSWkid(0)
Pixel Size X: 0.05
Pixel Size Y: 0.05
Band Count: 3
Pixel Type: U8
RasterFunction Infos: {"rasterFunctionInfos": [{
"name": "None",
"description": "",
"help": ""
}]}
Mensuration Capabilities: None
Inspection Capabilities:
Has Histograms: true
Has Colormap: false
Has Multi Dimensions : false
Rendering Rule:
Min Scale: 0
Max Scale: 0
Copyright Text: comune di milano
Service Data Type: esriImageServiceDataTypeRGB
Min Values: 0, 0, 0
Max Values: 255, 255, 255
Mean Values: 159.14745948540983, 141.37014171493766, 142.08237096001886
Standard Deviation Values: 52.589651944026095, 50.18127600456531, 45.58666960541252
Object ID Field: objectid
Fields:
-
objectid
(
type: esriFieldTypeOID, alias: objectid
)
-
name
(
type: esriFieldTypeString, alias: name, length: 200
)
-
minps
(
type: esriFieldTypeDouble, alias: minps
)
-
maxps
(
type: esriFieldTypeDouble, alias: maxps
)
-
lowps
(
type: esriFieldTypeDouble, alias: lowps
)
-
highps
(
type: esriFieldTypeDouble, alias: highps
)
-
category
(
type: esriFieldTypeInteger, alias: category
, Coded Values:
[0: Unknown]
, [1: Primary]
, [2: Overview]
, ...6 more...
)
-
tag
(
type: esriFieldTypeString, alias: tag, length: 100
)
-
groupname
(
type: esriFieldTypeString, alias: groupname, length: 100
)
-
productname
(
type: esriFieldTypeString, alias: productname, length: 100
)
-
centerx
(
type: esriFieldTypeDouble, alias: centerx
)
-
centery
(
type: esriFieldTypeDouble, alias: centery
)
-
zorder
(
type: esriFieldTypeInteger, alias: zorder
)
-
shape
(
type: esriFieldTypeGeometry, alias: shape
)
-
vista
(
type: esriFieldTypeString, alias: Vista, length: 50
)
-
perspectivex
(
type: esriFieldTypeDouble, alias: X
)
-
perspectivey
(
type: esriFieldTypeDouble, alias: Y
)
-
perspectivez
(
type: esriFieldTypeDouble, alias: Z
)
-
omega
(
type: esriFieldTypeDouble, alias: Omega
)
-
phi
(
type: esriFieldTypeDouble, alias: Phi
)
-
kappa
(
type: esriFieldTypeDouble, alias: Kappa
)
-
gps_timest
(
type: esriFieldTypeDouble, alias: GPS_Timest
)
-
flight_dat
(
type: esriFieldTypeInteger, alias: Flight_Dat
)
-
idcamera
(
type: esriFieldTypeString, alias: idcamera, length: 254
)
-
cameraid
(
type: esriFieldTypeString, alias: CameraID, length: 254
)
-
st_area(shape)
(
type: esriFieldTypeDouble, alias: st_area(shape)
)
-
st_length(shape)
(
type: esriFieldTypeDouble, alias: st_length(shape)
)
Default Mosaic Method: Northwest
Allowed Mosaic Methods: NorthWest,Center,LockRaster,ByAttribute,Nadir,Viewpoint,Seamline,None
SortField:
SortValue: null
Mosaic Operator: First
Default Compression Quality: 75
Default Resampling Method: Bilinear
Max Record Count: 1000
Max Image Height: 4100
Max Image Width: 15000
Max Download Image Count: 20
Max Mosaic Image Count: 20
Allow Raster Function: true
Allow Copy: true
Allow Analysis: true
Allow Compute TiePoints: false
Supports Statistics: true
Supports Advanced Queries: true
Use StandardizedQueries: true
Raster Type Infos:
Name: Raster Dataset
Description: Supports all ArcGIS Raster Datasets
Help:
Has Raster Attribute Table: false
Edit Fields Info: null
Ownership Based AccessControl For Rasters: null
Child Resources:
Info
Histograms
Statistics
Key Properties
Legend
Raster Function Infos
Supported Operations:
Export Image
Query
Identify
Compute Histograms
Compute Statistics Histograms
Get Samples
Compute Class Statistics
Query GPS Info
Find Images
Image to Map
Map to Image
Measure from Image
Image to Map Multiray
Query Boundary
Compute Pixel Location
Compute Angles
Validate
Project