View In:
ArcGIS JavaScript
ArcGIS Online Map Viewer
ArcGIS Earth
Service Description: Formato immagine raster che rappresenta l'intero territorio comunale all'anno 1884. Il contenuto informativo è in scala 1:25.000. La Carta tecnica è costituita da: 1) elementi di tipo geometrico. 2) elementi costitutivi del paesaggio antropico quali: fabbricati, manufatti tecnici, strade, ferrovie, canali, alberi e filari, etc; 3) elementi costitutivi del paesaggio naturale quali: idrografia, vegetazione, etc.; 4) limiti amministrativi; 5) toponomastica.
Data di creazione: 31/12/1884.
Proprietario: Comune di Milano.
Responsabile del dato: Innovazione tecnologica digitale.
Frequenza di aggiornamento: Non pianificato.
Licenza Creative Commons Attribuzione (CC-BY 4.0)
Name: Cartografie_Raster/Milano_1884_CTC_GB
Description: Formato immagine raster che rappresenta l'intero territorio comunale all'anno 1884. Il contenuto informativo è in scala 1:25.000. La Carta tecnica è costituita da: 1) elementi di tipo geometrico. 2) elementi costitutivi del paesaggio antropico quali: fabbricati, manufatti tecnici, strade, ferrovie, canali, alberi e filari, etc; 3) elementi costitutivi del paesaggio naturale quali: idrografia, vegetazione, etc.; 4) limiti amministrativi; 5) toponomastica.
Data di creazione: 31/12/1884.
Proprietario: Comune di Milano.
Responsabile del dato: Innovazione tecnologica digitale.
Frequenza di aggiornamento: Non pianificato.
Licenza Creative Commons Attribuzione (CC-BY 4.0)
Single Fused Map Cache: false
Extent:
XMin: 1510936.2148903366
YMin: 5031314.179425622
XMax: 1517695.2684780476
YMax: 5038073.233013438
Spatial Reference: 102091
(3003)
LatestVCSWkid(0)
Initial Extent:
XMin: 1510936.2148903366
YMin: 5031314.179425622
XMax: 1517695.2684780476
YMax: 5038073.233013438
Spatial Reference: 102091
(3003)
LatestVCSWkid(0)
Full Extent:
XMin: 1510936.2148903366
YMin: 5031314.179425622
XMax: 1517695.2684780476
YMax: 5038073.233013438
Spatial Reference: 102091
(3003)
LatestVCSWkid(0)
Pixel Size X: 0.7282678146439986
Pixel Size Y: 0.7282678146552876
Band Count: 3
Pixel Type: U8
RasterFunction Infos: {"rasterFunctionInfos": [{
"name": "None",
"description": "",
"help": ""
}]}
Mensuration Capabilities: Basic
Inspection Capabilities:
Has Histograms: true
Has Colormap: false
Has Multi Dimensions : false
Rendering Rule:
Min Scale: 0
Max Scale: 0
Resampling: false
Copyright Text: Comune di Milano
Service Data Type: esriImageServiceDataTypeRGB
Min Values: 0, 0, 0
Max Values: 255, 255, 255
Mean Values: 215.6884926119123, 176.21363479976446, 121.37161611935541
Standard Deviation Values: 41.38849774519165, 38.242895466042285, 32.27166709100371
Object ID Field:
Fields:
None
Default Mosaic Method: Center
Allowed Mosaic Methods:
SortField:
SortValue: null
Mosaic Operator: First
Default Compression Quality: 75
Default Resampling Method: Bilinear
Max Record Count: null
Max Image Height: 4100
Max Image Width: 15000
Max Download Image Count: null
Max Mosaic Image Count: null
Allow Raster Function: true
Allow Copy: true
Allow Analysis: true
Allow Compute TiePoints: false
Supports Statistics: false
Supports Advanced Queries: false
Use StandardizedQueries: true
Raster Type Infos:
Name: Raster Dataset
Description: Supports all ArcGIS Raster Datasets
Help:
Has Raster Attribute Table: false
Edit Fields Info: null
Ownership Based AccessControl For Rasters: null
Child Resources:
Info
Histograms
Statistics
Key Properties
Legend
Raster Function Infos
Supported Operations:
Export Image
Identify
Measure
Compute Histograms
Compute Statistics Histograms
Get Samples
Compute Class Statistics
Query Boundary
Compute Pixel Location
Compute Angles
Validate
Project