View In:
ArcGIS JavaScript
ArcGIS Online Map Viewer
ArcGIS Earth
Service Description: D_Innovazione_tecnologica_digitale/Densita_di_popolazione
Name: D_Innovazione_tecnologica_digitale/Densita_di_popolazione
Description:
Single Fused Map Cache: false
Extent:
XMin: 503720.6854999997
YMin: 5027231.289999999
XMax: 521420.6854999997
YMax: 5042256.289999999
Spatial Reference: 7791
(7791)
LatestVCSWkid(0)
Initial Extent:
XMin: 503720.6854999997
YMin: 5027231.289999999
XMax: 521420.6854999997
YMax: 5042256.289999999
Spatial Reference: 7791
(7791)
LatestVCSWkid(0)
Full Extent:
XMin: 503720.6854999997
YMin: 5027231.289999999
XMax: 521420.6854999997
YMax: 5042256.289999999
Spatial Reference: 7791
(7791)
LatestVCSWkid(0)
Pixel Size X: 25.0
Pixel Size Y: 25.0
Band Count: 1
Pixel Type: F32
RasterFunction Infos: {"rasterFunctionInfos": [
{
"name": "Densita_di_popolazione_totale",
"description": "Densita_di_popolazione_totale",
"help": ""
},
{
"name": "None",
"description": "",
"help": ""
}
]}
Mensuration Capabilities: Basic
Inspection Capabilities:
Has Histograms: true
Has Colormap: false
Has Multi Dimensions : false
Rendering Rule:
Min Scale: 0
Max Scale: 0
Copyright Text:
Service Data Type: esriImageServiceDataTypeGeneric
Min Values: 1.2548681940498132E-15
Max Values: 1
Mean Values: 0.23478800211587478
Standard Deviation Values: 0.2264688080289275
Object ID Field:
Fields:
None
Default Mosaic Method: Center
Allowed Mosaic Methods:
SortField:
SortValue: null
Mosaic Operator: First
Default Compression Quality: 75
Default Resampling Method: Bilinear
Max Record Count: null
Max Image Height: 4100
Max Image Width: 15000
Max Download Image Count: null
Max Mosaic Image Count: null
Allow Raster Function: true
Allow Copy: true
Allow Analysis: true
Allow Compute TiePoints: false
Supports Statistics: false
Supports Advanced Queries: false
Use StandardizedQueries: true
Raster Type Infos:
Name: Raster Dataset
Description: Supports all ArcGIS Raster Datasets
Help:
Has Raster Attribute Table: false
Edit Fields Info: null
Ownership Based AccessControl For Rasters: null
Child Resources:
Info
Histograms
Statistics
Key Properties
Legend
Raster Function Infos
Supported Operations:
Export Image
Identify
Measure
Compute Histograms
Compute Statistics Histograms
Get Samples
Compute Class Statistics
Query Boundary
Compute Pixel Location
Compute Angles
Validate
Project